BEGIN:VCALENDAR
CALSCALE:GREGORIAN
X-WR-TIMEZONE;VALUE=TEXT:GMT
PRODID:PEAK Corporation - piCal -
X-WR-CALNAME;VALUE=TEXT:洞戸小１年生を迎える会
VERSION:2.0
METHOD:PUBLISH
BEGIN:VTIMEZONE
TZID:GMT
BEGIN:STANDARD
DTSTART:19390101T000000
TZOFFSETFROM:+0000
TZOFFSETTO:+0000
TZNAME:GMT
END:STANDARD
END:VTIMEZONE
BEGIN:VEVENT
DTSTART:20110415T003000Z
DTEND:20110415T013000Z
LOCATION:
TRANSP:OPAQUE
SEQUENCE:0
UID:pical060-e1c933a2dcb35279e980538d956bbb38
DTSTAMP:20110406T071206Z
CATEGORIES:
DESCRIPTION:山の子班で、1年生を迎えての会を催します。１年生が早く学校に慣れることや縦割りのお兄さん、お姉さんを覚えることが目当てです。
SUMMARY:洞戸小１年生を迎える会
PRIORITY:0
CLASS:PUBLIC
END:VEVENT
END:VCALENDAR
