BEGIN:VCALENDAR
CALSCALE:GREGORIAN
X-WR-TIMEZONE;VALUE=TEXT:GMT
PRODID:PEAK Corporation - piCal -
X-WR-CALNAME;VALUE=TEXT:洞戸小交通安全教室
VERSION:2.0
METHOD:PUBLISH
BEGIN:VTIMEZONE
TZID:GMT
BEGIN:STANDARD
DTSTART:19390101T000000
TZOFFSETFROM:+0000
TZOFFSETTO:+0000
TZNAME:GMT
END:STANDARD
END:VTIMEZONE
BEGIN:VEVENT
DTSTART:20110420T003000Z
DTEND:20110420T023000Z
LOCATION:
TRANSP:OPAQUE
SEQUENCE:0
UID:pical060-8ced1e85ea074426c22ea0a171d8d78e
DTSTAMP:20110406T071500Z
CATEGORIES:
DESCRIPTION:自転車の乗り方を学ぶことを中心にして、交通安全に対する意識を高めます。１年も自転車に乗れる子は行います。
SUMMARY:洞戸小交通安全教室
PRIORITY:0
CLASS:PUBLIC
END:VEVENT
END:VCALENDAR
