BEGIN:VCALENDAR
CALSCALE:GREGORIAN
X-WR-TIMEZONE;VALUE=TEXT:GMT
PRODID:PEAK Corporation - piCal -
X-WR-CALNAME;VALUE=TEXT:洞戸小授業参観、Ｐ総会、懇談会
VERSION:2.0
METHOD:PUBLISH
BEGIN:VTIMEZONE
TZID:GMT
BEGIN:STANDARD
DTSTART:19390101T000000
TZOFFSETFROM:+0000
TZOFFSETTO:+0000
TZNAME:GMT
END:STANDARD
END:VTIMEZONE
BEGIN:VEVENT
DTSTART:20110423T043000Z
DTEND:20110423T072000Z
LOCATION:
TRANSP:OPAQUE
SEQUENCE:0
UID:pical060-3e3d8ff591b3bd3fd95859bd09554dad
DTSTAMP:20110406T071751Z
CATEGORIES:
DESCRIPTION:今年度１回目の授業参観日です。担任との顔合わせですので、全保護者の方の参加を望んでいます。
SUMMARY:洞戸小授業参観、Ｐ総会、懇談会
PRIORITY:0
CLASS:PUBLIC
END:VEVENT
END:VCALENDAR
