BEGIN:VCALENDAR
CALSCALE:GREGORIAN
X-WR-TIMEZONE;VALUE=TEXT:GMT
PRODID:PEAK Corporation - piCal -
X-WR-CALNAME;VALUE=TEXT:洞戸小遠足
VERSION:2.0
METHOD:PUBLISH
BEGIN:VTIMEZONE
TZID:GMT
BEGIN:STANDARD
DTSTART:19390101T000000
TZOFFSETFROM:+0000
TZOFFSETTO:+0000
TZNAME:GMT
END:STANDARD
END:VTIMEZONE
BEGIN:VEVENT
DTSTART:20110425T000000Z
DTEND:20110425T080000Z
LOCATION:
TRANSP:OPAQUE
SEQUENCE:0
UID:pical060-61059b33f3edd7b23e691c7779f429e7
DTSTAMP:20110406T072115Z
CATEGORIES:
DESCRIPTION:昨年度雨で中止になった岩門の滝へアタックします。良い天気になることを願っています。お弁当の日がつずきますが、よろしくお願いします。
SUMMARY:洞戸小遠足
PRIORITY:0
CLASS:PUBLIC
END:VEVENT
END:VCALENDAR
