BEGIN:VCALENDAR
CALSCALE:GREGORIAN
X-WR-TIMEZONE;VALUE=TEXT:GMT
PRODID:PEAK Corporation - piCal -
X-WR-CALNAME;VALUE=TEXT:自治会連合会洞戸支部総会
VERSION:2.0
METHOD:PUBLISH
BEGIN:VTIMEZONE
TZID:GMT
BEGIN:STANDARD
DTSTART:19390101T000000
TZOFFSETFROM:+0000
TZOFFSETTO:+0000
TZNAME:GMT
END:STANDARD
END:VTIMEZONE
BEGIN:VEVENT
DTSTART:20110414T103000Z
DTEND:20110414T120000Z
LOCATION:洞戸生涯学習センター
TRANSP:OPAQUE
SEQUENCE:0
UID:pical060-2d9fff5913599030d26c509326c68f69
DTSTAMP:20110410T153936Z
CATEGORIES:
DESCRIPTION:
SUMMARY:自治会連合会洞戸支部総会
PRIORITY:0
CLASS:PUBLIC
END:VEVENT
END:VCALENDAR
