BEGIN:VCALENDAR
CALSCALE:GREGORIAN
X-WR-TIMEZONE;VALUE=TEXT:GMT
PRODID:PEAK Corporation - piCal -
X-WR-CALNAME;VALUE=TEXT:食改協
VERSION:2.0
METHOD:PUBLISH
BEGIN:VTIMEZONE
TZID:GMT
BEGIN:STANDARD
DTSTART:19390101T000000
TZOFFSETFROM:+0000
TZOFFSETTO:+0000
TZNAME:GMT
END:STANDARD
END:VTIMEZONE
BEGIN:VEVENT
DTSTART:20110413T000000Z
DTEND:20110413T030000Z
LOCATION:
TRANSP:OPAQUE
SEQUENCE:1
UID:pical060-d08aa685762b09fbb540442dac31a2cb
DTSTAMP:20110416T012120Z
CATEGORIES:
DESCRIPTION:総会は19名の出席で開会し、各議事を承認いただきました。保険センターから保健婦さん2名来て頂き洞戸の住人の健康状態についてお話しを聞きました。それにより洞戸は血糖値の高い人が多く関市の各地域別の統計をみると第2位の多さということがわかりました。このことから洞戸食改協では、今後は食育とともに血糖値の低下をめざすことを軸に活動を展開していくことになりました。\n　総会終了後、調理室の大掃除をして、すみずみまできれいにいたしました。（お疲れ様でした）\n　会員の皆様には忙しい毎日と思いますが、こうした毎日がおくれることは本当に幸せなことなのではないでしょうか。今年も1年ご協力のほどよろしくお願い申し上げます。
SUMMARY:食改協
PRIORITY:0
CLASS:PUBLIC
END:VEVENT
END:VCALENDAR
