BEGIN:VCALENDAR
CALSCALE:GREGORIAN
X-WR-TIMEZONE;VALUE=TEXT:GMT
PRODID:PEAK Corporation - piCal -
X-WR-CALNAME;VALUE=TEXT:農協女性部
VERSION:2.0
METHOD:PUBLISH
BEGIN:VTIMEZONE
TZID:GMT
BEGIN:STANDARD
DTSTART:19390101T000000
TZOFFSETFROM:+0000
TZOFFSETTO:+0000
TZNAME:GMT
END:STANDARD
END:VTIMEZONE
BEGIN:VEVENT
DTSTART:20110415T043000Z
DTEND:20110415T063000Z
LOCATION:めぐみの農協本店
TRANSP:OPAQUE
SEQUENCE:0
UID:pical060-2fe56393fccf17e39e1362dfb48dfffe
DTSTAMP:20110416T013900Z
CATEGORIES:
DESCRIPTION:中濃地区農協女性部合同会議\n　今年度の活動計画\n　・寄せ植え（5月）・陶器づくり（6，7月）\n　・豆腐づくり（8月）・太極拳、ヨガ（9月）\n　・小物づくり(10月）・フラワーアレンジメント(12)\n　・総会（3月）・ソフトバレーボール大会\n　23年度はこのようなことをやっていきます。その他食農活動や研修会も計画しております。多数ご参加ください。又女性部の会員さんも現在募集中です。（詳しくは農協洞戸支店にどうぞ）
SUMMARY:農協女性部
PRIORITY:0
CLASS:PUBLIC
END:VEVENT
END:VCALENDAR
