BEGIN:VCALENDAR
CALSCALE:GREGORIAN
X-WR-TIMEZONE;VALUE=TEXT:GMT
PRODID:PEAK Corporation - piCal -
X-WR-CALNAME;VALUE=TEXT:夜間）大正琴ドリームメイト
VERSION:2.0
METHOD:PUBLISH
BEGIN:VTIMEZONE
TZID:GMT
BEGIN:STANDARD
DTSTART:19390101T000000
TZOFFSETFROM:+0000
TZOFFSETTO:+0000
TZNAME:GMT
END:STANDARD
END:VTIMEZONE
BEGIN:VEVENT
DTSTART:20110420T103000Z
DTEND:20110420T123000Z
LOCATION:洞戸生涯学習センター　集会室1
TRANSP:OPAQUE
SEQUENCE:1
UID:pical060-66b276b75c07eb3b80612b429a6359ad
DTSTAMP:20110416T112440Z
CATEGORIES:
DESCRIPTION:
SUMMARY:夜間）大正琴ドリームメイト
PRIORITY:0
CLASS:PUBLIC
END:VEVENT
END:VCALENDAR
