BEGIN:VCALENDAR
CALSCALE:GREGORIAN
X-WR-TIMEZONE;VALUE=TEXT:GMT
PRODID:PEAK Corporation - piCal -
X-WR-CALNAME;VALUE=TEXT:夜間）硯会
VERSION:2.0
METHOD:PUBLISH
BEGIN:VTIMEZONE
TZID:GMT
BEGIN:STANDARD
DTSTART:19390101T000000
TZOFFSETFROM:+0000
TZOFFSETTO:+0000
TZNAME:GMT
END:STANDARD
END:VTIMEZONE
BEGIN:VEVENT
DTSTART:20110420T103000Z
DTEND:20110420T123000Z
LOCATION:洞戸生涯学習センター　和室
TRANSP:OPAQUE
SEQUENCE:0
UID:pical060-5d5d6aaeb37cfa7430c9d81429078b8c
DTSTAMP:20110416T112421Z
CATEGORIES:学習センター
DESCRIPTION:
SUMMARY:夜間）硯会
PRIORITY:0
CLASS:PUBLIC
END:VEVENT
END:VCALENDAR
