BEGIN:VCALENDAR
CALSCALE:GREGORIAN
X-WR-TIMEZONE;VALUE=TEXT:GMT
PRODID:PEAK Corporation - piCal -
X-WR-CALNAME;VALUE=TEXT:夜間）　大正琴ドリームメイト
VERSION:2.0
METHOD:PUBLISH
BEGIN:VTIMEZONE
TZID:GMT
BEGIN:STANDARD
DTSTART:19390101T000000
TZOFFSETFROM:+0000
TZOFFSETTO:+0000
TZNAME:GMT
END:STANDARD
END:VTIMEZONE
BEGIN:VEVENT
DTSTART:20110423T103000Z
DTEND:20110423T123000Z
LOCATION:集会室1
TRANSP:OPAQUE
SEQUENCE:0
UID:pical060-a6daec87e8924b18605cafc8b128c141
DTSTAMP:20110416T112825Z
CATEGORIES:学習センター
DESCRIPTION:
SUMMARY:夜間）　大正琴ドリームメイト
PRIORITY:0
CLASS:PUBLIC
END:VEVENT
END:VCALENDAR
