BEGIN:VCALENDAR
CALSCALE:GREGORIAN
X-WR-TIMEZONE;VALUE=TEXT:GMT
PRODID:PEAK Corporation - piCal -
X-WR-CALNAME;VALUE=TEXT:午前）　結婚相談
VERSION:2.0
METHOD:PUBLISH
BEGIN:VTIMEZONE
TZID:GMT
BEGIN:STANDARD
DTSTART:19390101T000000
TZOFFSETFROM:+0000
TZOFFSETTO:+0000
TZNAME:GMT
END:STANDARD
END:VTIMEZONE
BEGIN:VEVENT
DTSTART:20110424T000000Z
DTEND:20110424T020000Z
LOCATION:集会室1
TRANSP:OPAQUE
SEQUENCE:0
UID:pical060-cb7a1d46cd057cf86bacf7106fe37f23
DTSTAMP:20110416T112918Z
CATEGORIES:学習センター
DESCRIPTION:
SUMMARY:午前）　結婚相談
PRIORITY:0
CLASS:PUBLIC
END:VEVENT
END:VCALENDAR
