BEGIN:VCALENDAR
CALSCALE:GREGORIAN
X-WR-TIMEZONE;VALUE=TEXT:GMT
PRODID:PEAK Corporation - piCal -
X-WR-CALNAME;VALUE=TEXT:午前・午後）　囲碁クラブ
VERSION:2.0
METHOD:PUBLISH
BEGIN:VTIMEZONE
TZID:GMT
BEGIN:STANDARD
DTSTART:19390101T000000
TZOFFSETFROM:+0000
TZOFFSETTO:+0000
TZNAME:GMT
END:STANDARD
END:VTIMEZONE
BEGIN:VEVENT
DTSTART:20110424T000000Z
DTEND:20110424T080000Z
LOCATION:和室
TRANSP:OPAQUE
SEQUENCE:0
UID:pical060-b0ffc75478d1eca05a2ed261dfe95eda
DTSTAMP:20110416T112955Z
CATEGORIES:学習センター
DESCRIPTION:
SUMMARY:午前・午後）　囲碁クラブ
PRIORITY:0
CLASS:PUBLIC
END:VEVENT
END:VCALENDAR
