BEGIN:VCALENDAR
CALSCALE:GREGORIAN
X-WR-TIMEZONE;VALUE=TEXT:GMT
PRODID:PEAK Corporation - piCal -
X-WR-CALNAME;VALUE=TEXT:(KSC) 理事会
VERSION:2.0
METHOD:PUBLISH
BEGIN:VTIMEZONE
TZID:GMT
BEGIN:STANDARD
DTSTART:19390101T000000
TZOFFSETFROM:+0000
TZOFFSETTO:+0000
TZNAME:GMT
END:STANDARD
END:VTIMEZONE
BEGIN:VEVENT
DTSTART:20110423T103000Z
DTEND:20110423T123000Z
LOCATION:洞戸運動公園管理棟
TRANSP:OPAQUE
SEQUENCE:0
UID:pical060-5fa2ba39bb00da874447922f9c3f1e64
DTSTAMP:20110423T010508Z
CATEGORIES:
DESCRIPTION:
SUMMARY:(KSC) 理事会
PRIORITY:0
CLASS:PUBLIC
END:VEVENT
END:VCALENDAR
