BEGIN:VCALENDAR
CALSCALE:GREGORIAN
X-WR-TIMEZONE;VALUE=TEXT:GMT
PRODID:PEAK Corporation - piCal -
X-WR-CALNAME;VALUE=TEXT:小中学校終業式
VERSION:2.0
METHOD:PUBLISH
BEGIN:VTIMEZONE
TZID:GMT
BEGIN:STANDARD
DTSTART:19390101T000000
TZOFFSETFROM:+0000
TZOFFSETTO:+0000
TZNAME:GMT
END:STANDARD
END:VTIMEZONE
BEGIN:VEVENT
DTSTART:20110720T000000Z
DTEND:20110720T020000Z
LOCATION:
TRANSP:OPAQUE
SEQUENCE:0
UID:pical060-b6cdb36b57cbb9dade01b63da0a61e58
DTSTAMP:20110512T023509Z
CATEGORIES:
DESCRIPTION:１学期が終了です。今年も暑い夏休みになりそうです。
SUMMARY:小中学校終業式
PRIORITY:0
CLASS:PUBLIC
END:VEVENT
END:VCALENDAR
