BEGIN:VCALENDAR
CALSCALE:GREGORIAN
X-WR-TIMEZONE;VALUE=TEXT:GMT
PRODID:PEAK Corporation - piCal -
X-WR-CALNAME;VALUE=TEXT:洞戸小個人懇談?
VERSION:2.0
METHOD:PUBLISH
BEGIN:VTIMEZONE
TZID:GMT
BEGIN:STANDARD
DTSTART:19390101T000000
TZOFFSETFROM:+0000
TZOFFSETTO:+0000
TZNAME:GMT
END:STANDARD
END:VTIMEZONE
BEGIN:VEVENT
DTSTART:20110721T000000Z
DTEND:20110721T020000Z
LOCATION:
TRANSP:OPAQUE
SEQUENCE:0
UID:pical060-463065ac16181d397f1b8a9cce55af08
DTSTAMP:20110512T023634Z
CATEGORIES:
DESCRIPTION:午前中を中心に保護者との懇談をもちます。
SUMMARY:洞戸小個人懇談?
PRIORITY:0
CLASS:PUBLIC
END:VEVENT
END:VCALENDAR
