BEGIN:VCALENDAR
CALSCALE:GREGORIAN
X-WR-TIMEZONE;VALUE=TEXT:GMT
PRODID:PEAK Corporation - piCal -
X-WR-CALNAME;VALUE=TEXT:洞戸支部社協理事・福祉委員合同会議
VERSION:2.0
METHOD:PUBLISH
BEGIN:VTIMEZONE
TZID:GMT
BEGIN:STANDARD
DTSTART:19390101T000000
TZOFFSETFROM:+0000
TZOFFSETTO:+0000
TZNAME:GMT
END:STANDARD
END:VTIMEZONE
BEGIN:VEVENT
DTSTART:20110720T100000Z
DTEND:20110720T123000Z
LOCATION:洞戸老人福祉センター・研修室
TRANSP:OPAQUE
SEQUENCE:0
UID:pical060-f4542ccc09c9ba607e7c0fdea359ae91
DTSTAMP:20110719T111938Z
CATEGORIES:社協　洞戸支部
DESCRIPTION:議題：１．見守りネットワーク活動について\n　　　　　・ニーズキャッチカードの様式変更について\n　　　　　・個人情報の同意について
SUMMARY:洞戸支部社協理事・福祉委員合同会議
PRIORITY:0
CLASS:PUBLIC
END:VEVENT
END:VCALENDAR
