BEGIN:VCALENDAR
CALSCALE:GREGORIAN
X-WR-TIMEZONE;VALUE=TEXT:GMT
PRODID:PEAK Corporation - piCal -
X-WR-CALNAME;VALUE=TEXT:地域福祉懇談会
VERSION:2.0
METHOD:PUBLISH
BEGIN:VTIMEZONE
TZID:GMT
BEGIN:STANDARD
DTSTART:19390101T000000
TZOFFSETFROM:+0000
TZOFFSETTO:+0000
TZNAME:GMT
END:STANDARD
END:VTIMEZONE
BEGIN:VEVENT
DTSTART:20110916T000000Z
DTEND:20110916T080000Z
LOCATION:洞戸集落基幹センター・会議室
TRANSP:OPAQUE
SEQUENCE:0
UID:pical060-fa7e4644c8966524b45af0879dca3ce5
DTSTAMP:20110719T112215Z
CATEGORIES:社協　洞戸支部
DESCRIPTION:
SUMMARY:地域福祉懇談会
PRIORITY:0
CLASS:PUBLIC
END:VEVENT
END:VCALENDAR
