BEGIN:VCALENDAR
CALSCALE:GREGORIAN
X-WR-TIMEZONE;VALUE=TEXT:GMT
PRODID:PEAK Corporation - piCal -
X-WR-CALNAME;VALUE=TEXT:洞戸小中学校始業式
VERSION:2.0
METHOD:PUBLISH
BEGIN:VTIMEZONE
TZID:GMT
BEGIN:STANDARD
DTSTART:19390101T000000
TZOFFSETFROM:+0000
TZOFFSETTO:+0000
TZNAME:GMT
END:STANDARD
END:VTIMEZONE
BEGIN:VEVENT
DTSTART:20110831T231500Z
DTEND:20110901T023000Z
LOCATION:洞戸小中学校
TRANSP:OPAQUE
SEQUENCE:0
UID:pical060-006f80538c50ff49939e970c4e18951e
DTSTAMP:20110817T054152Z
CATEGORIES:
DESCRIPTION:暑い夏も終わり？いよいよ充実の２学期です。メインの行事もあり、学習に遊びに、部活に・・・頑張る子ども達が楽しみです。
SUMMARY:洞戸小中学校始業式
PRIORITY:0
CLASS:PUBLIC
END:VEVENT
END:VCALENDAR
