BEGIN:VCALENDAR
CALSCALE:GREGORIAN
X-WR-TIMEZONE;VALUE=TEXT:GMT
PRODID:PEAK Corporation - piCal -
X-WR-CALNAME;VALUE=TEXT:洞戸小学校運動会
VERSION:2.0
METHOD:PUBLISH
BEGIN:VTIMEZONE
TZID:GMT
BEGIN:STANDARD
DTSTART:19390101T000000
TZOFFSETFROM:+0000
TZOFFSETTO:+0000
TZNAME:GMT
END:STANDARD
END:VTIMEZONE
BEGIN:VEVENT
DTSTART:20110917T000000Z
DTEND:20110917T060000Z
LOCATION:洞戸小学校運動場
TRANSP:OPAQUE
SEQUENCE:0
UID:pical060-c31e7d7f0135fa3831cc1418ab25d3a3
DTSTAMP:20110817T055215Z
CATEGORIES:
DESCRIPTION:　東日本大震災による大きな被害の中、一日も早い復旧復興を願って、洞戸小学校でも元気な運動会をアピールします。高学年のソーランでは、工夫をこらして元気な踊りを披露し、被災地の方々の頑張りを応援します。
SUMMARY:洞戸小学校運動会
PRIORITY:0
CLASS:PUBLIC
END:VEVENT
END:VCALENDAR
