BEGIN:VCALENDAR
CALSCALE:GREGORIAN
X-WR-TIMEZONE;VALUE=TEXT:GMT
PRODID:PEAK Corporation - piCal -
X-WR-CALNAME;VALUE=TEXT:敬老会
VERSION:2.0
METHOD:PUBLISH
BEGIN:VTIMEZONE
TZID:GMT
BEGIN:STANDARD
DTSTART:19390101T000000
TZOFFSETFROM:+0000
TZOFFSETTO:+0000
TZNAME:GMT
END:STANDARD
END:VTIMEZONE
BEGIN:VEVENT
DTSTART:20110919T020000Z
DTEND:20110919T050000Z
LOCATION:洞戸福祉センター
TRANSP:OPAQUE
SEQUENCE:0
UID:pical060-f8b78b7e2e7cbce24acfe4ff8c92896d
DTSTAMP:20110825T100342Z
CATEGORIES:
DESCRIPTION:平成２３年　敬老会\n　関市自治会連合会洞戸支部主催
SUMMARY:敬老会
PRIORITY:0
CLASS:PUBLIC
END:VEVENT
END:VCALENDAR
