BEGIN:VCALENDAR
CALSCALE:GREGORIAN
X-WR-TIMEZONE;VALUE=TEXT:GMT
PRODID:PEAK Corporation - piCal -
X-WR-CALNAME;VALUE=TEXT:FC岐阜洞戸小へ来校
VERSION:2.0
METHOD:PUBLISH
BEGIN:VTIMEZONE
TZID:GMT
BEGIN:STANDARD
DTSTART:19390101T000000
TZOFFSETFROM:+0000
TZOFFSETTO:+0000
TZNAME:GMT
END:STANDARD
END:VTIMEZONE
BEGIN:VEVENT
DTSTART:20111017T003000Z
DTEND:20111017T031500Z
LOCATION:洞戸小学校グランド（体育館）
TRANSP:OPAQUE
SEQUENCE:0
UID:pical060-cfeb1a4cf93a59b2158b8ded812e31de
DTSTAMP:20111006T050146Z
CATEGORIES:
DESCRIPTION:低、中、高学年に分けて、１時間ずつサッカーを教えてもらいます。
SUMMARY:FC岐阜洞戸小へ来校
PRIORITY:0
CLASS:PUBLIC
END:VEVENT
END:VCALENDAR
