BEGIN:VCALENDAR
CALSCALE:GREGORIAN
X-WR-TIMEZONE;VALUE=TEXT:GMT
PRODID:PEAK Corporation - piCal -
X-WR-CALNAME;VALUE=TEXT:２学期終業式
VERSION:2.0
METHOD:PUBLISH
BEGIN:VTIMEZONE
TZID:GMT
BEGIN:STANDARD
DTSTART:19390101T000000
TZOFFSETFROM:+0000
TZOFFSETTO:+0000
TZNAME:GMT
END:STANDARD
END:VTIMEZONE
BEGIN:VEVENT
DTSTART:20111226T000000Z
DTEND:20111226T080000Z
LOCATION:
TRANSP:OPAQUE
SEQUENCE:0
UID:pical060-a0963ed51e18df0effc08d9801f897e7
DTSTAMP:20111006T052623Z
CATEGORIES:
DESCRIPTION:　１/７まで冬休み。1/10(火）が始業式です。\n
SUMMARY:２学期終業式
PRIORITY:0
CLASS:PUBLIC
END:VEVENT
END:VCALENDAR
