BEGIN:VCALENDAR
CALSCALE:GREGORIAN
X-WR-TIMEZONE;VALUE=TEXT:GMT
PRODID:PEAK Corporation - piCal -
X-WR-CALNAME;VALUE=TEXT:農協女性部
VERSION:2.0
METHOD:PUBLISH
BEGIN:VTIMEZONE
TZID:GMT
BEGIN:STANDARD
DTSTART:19390101T000000
TZOFFSETFROM:+0000
TZOFFSETTO:+0000
TZNAME:GMT
END:STANDARD
END:VTIMEZONE
BEGIN:VEVENT
DTSTART:20111209T040000Z
DTEND:20111209T070000Z
LOCATION:関市文化センター
TRANSP:OPAQUE
SEQUENCE:0
UID:pical060-d1d77f210cb97ac850f2e4c98c6f4ce2
DTSTAMP:20111204T074533Z
CATEGORIES:
DESCRIPTION:めぐみの農協の女性部大会が開催されます。\n支部の活動発表と講演会があります。\n出席を希望される方は農協の女性部担当者に連絡下さい。
SUMMARY:農協女性部
PRIORITY:0
CLASS:PUBLIC
END:VEVENT
END:VCALENDAR
