BEGIN:VCALENDAR
CALSCALE:GREGORIAN
X-WR-TIMEZONE;VALUE=TEXT:GMT
PRODID:PEAK Corporation - piCal -
X-WR-CALNAME;VALUE=TEXT:農協女性部
VERSION:2.0
METHOD:PUBLISH
BEGIN:VTIMEZONE
TZID:GMT
BEGIN:STANDARD
DTSTART:19390101T000000
TZOFFSETFROM:+0000
TZOFFSETTO:+0000
TZNAME:GMT
END:STANDARD
END:VTIMEZONE
BEGIN:VEVENT
DTSTART:20111214T233000Z
DTEND:20111215T080000Z
LOCATION:農協洞戸支店
TRANSP:OPAQUE
SEQUENCE:0
UID:pical060-67e46e35ee7c7965fe2ece3e453e0e8e
DTSTAMP:20111204T075512Z
CATEGORIES:
DESCRIPTION:　支店で感謝祭が行われます。女性部ではトン汁つくりを手伝います。3人程でいいので役員が出ます。\n　女性部で作った作品が展示されます。じゃがいもやたまねぎのつめほうだい200円の催しもあるのでたくさんの方、ぜひおいでください。
SUMMARY:農協女性部
PRIORITY:0
CLASS:PUBLIC
END:VEVENT
END:VCALENDAR
