BEGIN:VCALENDAR
CALSCALE:GREGORIAN
X-WR-TIMEZONE;VALUE=TEXT:GMT
PRODID:PEAK Corporation - piCal -
X-WR-CALNAME;VALUE=TEXT:小地域住民福祉活動計画（高齢者・弱者）の策定について
VERSION:2.0
METHOD:PUBLISH
BEGIN:VTIMEZONE
TZID:GMT
BEGIN:STANDARD
DTSTART:19390101T000000
TZOFFSETFROM:+0000
TZOFFSETTO:+0000
TZNAME:GMT
END:STANDARD
END:VTIMEZONE
BEGIN:VEVENT
DTSTART:20111216T100000Z
DTEND:20111216T120000Z
LOCATION:洞戸老人福祉センター・軽作業室
TRANSP:OPAQUE
SEQUENCE:0
UID:pical060-59dfff24f698843aeedfe434cbf82e12
DTSTAMP:20111206T135318Z
CATEGORIES:社協　洞戸支部
DESCRIPTION:議題：高齢者・弱者が安心して暮らせる地域をつくろう\n　　　?ふれあい・いきいきサロンの活動推進\n　　　?老人福祉センターの活用\n　　　?交通弱者の移動手段の確保
SUMMARY:小地域住民福祉活動計画（高齢者・弱者）の策定について
PRIORITY:0
CLASS:PUBLIC
END:VEVENT
END:VCALENDAR
