BEGIN:VCALENDAR
CALSCALE:GREGORIAN
X-WR-TIMEZONE;VALUE=TEXT:GMT
PRODID:PEAK Corporation - piCal -
X-WR-CALNAME;VALUE=TEXT:3学期始業式
VERSION:2.0
METHOD:PUBLISH
BEGIN:VTIMEZONE
TZID:GMT
BEGIN:STANDARD
DTSTART:19390101T000000
TZOFFSETFROM:+0000
TZOFFSETTO:+0000
TZNAME:GMT
END:STANDARD
END:VTIMEZONE
BEGIN:VEVENT
DTSTART:20120109T231500Z
DTEND:20120110T023000Z
LOCATION:洞戸小中学校
TRANSP:OPAQUE
SEQUENCE:0
UID:pical060-804c9558d186b14a5d4b470a3ab8aa0f
DTSTAMP:20111220T072112Z
CATEGORIES:
DESCRIPTION:いよいよ３学期です。今年度のまとめの学期を充実したものにしたいです。
SUMMARY:3学期始業式
PRIORITY:0
CLASS:PUBLIC
END:VEVENT
END:VCALENDAR
