BEGIN:VCALENDAR
CALSCALE:GREGORIAN
X-WR-TIMEZONE;VALUE=TEXT:GMT
PRODID:PEAK Corporation - piCal -
X-WR-CALNAME;VALUE=TEXT:関市社協洞戸支部・理事会
VERSION:2.0
METHOD:PUBLISH
BEGIN:VTIMEZONE
TZID:GMT
BEGIN:STANDARD
DTSTART:19390101T000000
TZOFFSETFROM:+0000
TZOFFSETTO:+0000
TZNAME:GMT
END:STANDARD
END:VTIMEZONE
BEGIN:VEVENT
DTSTART:20120307T100000Z
DTEND:20120307T123000Z
LOCATION:洞戸老人福祉センター。軽作業室
TRANSP:OPAQUE
SEQUENCE:0
UID:pical060-9ae420e4208ebb7c04cd5019b9f6d232
DTSTAMP:20120309T122543Z
CATEGORIES:
DESCRIPTION:（議題）\n?小地域住民福祉活動計画の\n　　　　各目標の具体的活動について\n?各部会からの報告並び今後の予定について\n
SUMMARY:関市社協洞戸支部・理事会
PRIORITY:0
CLASS:PUBLIC
END:VEVENT
END:VCALENDAR
