BEGIN:VCALENDAR
CALSCALE:GREGORIAN
X-WR-TIMEZONE;VALUE=TEXT:GMT
PRODID:PEAK Corporation - piCal -
X-WR-CALNAME;VALUE=TEXT:関市社協洞戸支部・執行部会
VERSION:2.0
METHOD:PUBLISH
BEGIN:VTIMEZONE
TZID:GMT
BEGIN:STANDARD
DTSTART:19390101T000000
TZOFFSETFROM:+0000
TZOFFSETTO:+0000
TZNAME:GMT
END:STANDARD
END:VTIMEZONE
BEGIN:VEVENT
DTSTART:20120314T100000Z
DTEND:20120314T123000Z
LOCATION:洞戸老人福祉センター。軽作業室
TRANSP:OPAQUE
SEQUENCE:0
UID:pical060-85ff573e21c6c521d959b8118a93e323
DTSTAMP:20120309T123324Z
CATEGORIES:
DESCRIPTION:《議題》\n?小地域住民福祉活動計画のまとめ\n?２４年度の事業・予算計画について
SUMMARY:関市社協洞戸支部・執行部会
PRIORITY:0
CLASS:PUBLIC
END:VEVENT
END:VCALENDAR
