BEGIN:VCALENDAR
CALSCALE:GREGORIAN
X-WR-TIMEZONE;VALUE=TEXT:GMT
PRODID:PEAK Corporation - piCal -
X-WR-CALNAME;VALUE=TEXT:下洞戸サロン（寿会）
VERSION:2.0
METHOD:PUBLISH
BEGIN:VTIMEZONE
TZID:GMT
BEGIN:STANDARD
DTSTART:19390101T000000
TZOFFSETFROM:+0000
TZOFFSETTO:+0000
TZNAME:GMT
END:STANDARD
END:VTIMEZONE
BEGIN:VEVENT
DTSTART:20120529T043000Z
DTEND:20120529T060000Z
LOCATION:下洞戸活性化センター
TRANSP:OPAQUE
SEQUENCE:0
UID:pical060-6b02d89a861a537ba3af8a919fdba823
DTSTAMP:20120502T030722Z
CATEGORIES:社協　洞戸支部
DESCRIPTION:保健師さんによるいきいき教室\n・血圧測定\n・健康体操\n・ストレッチ体操\n・頭の体操等
SUMMARY:下洞戸サロン（寿会）
PRIORITY:0
CLASS:PUBLIC
END:VEVENT
END:VCALENDAR
