BEGIN:VCALENDAR
CALSCALE:GREGORIAN
X-WR-TIMEZONE;VALUE=TEXT:GMT
PRODID:PEAK Corporation - piCal -
X-WR-CALNAME;VALUE=TEXT:奥洞戸サロン（三友クラブ）
VERSION:2.0
METHOD:PUBLISH
BEGIN:VTIMEZONE
TZID:GMT
BEGIN:STANDARD
DTSTART:19390101T000000
TZOFFSETFROM:+0000
TZOFFSETTO:+0000
TZNAME:GMT
END:STANDARD
END:VTIMEZONE
BEGIN:VEVENT
DTSTART:20120515T043000Z
DTEND:20120515T060000Z
LOCATION:高見集会所
TRANSP:OPAQUE
SEQUENCE:0
UID:pical060-842d2ddc301e7c3dfb9b60a6f2a44793
DTSTAMP:20120502T031313Z
CATEGORIES:社協　洞戸支部
DESCRIPTION:＜簡単な小物作り＞\n・牛乳パックを利用したトレイ作り\n\n
SUMMARY:奥洞戸サロン（三友クラブ）
PRIORITY:0
CLASS:PUBLIC
END:VEVENT
END:VCALENDAR
