BEGIN:VCALENDAR
CALSCALE:GREGORIAN
X-WR-TIMEZONE;VALUE=TEXT:GMT
PRODID:PEAK Corporation - piCal -
X-WR-CALNAME;VALUE=TEXT:通元寺サロン(恵比寿会）
VERSION:2.0
METHOD:PUBLISH
BEGIN:VTIMEZONE
TZID:GMT
BEGIN:STANDARD
DTSTART:19390101T000000
TZOFFSETFROM:+0000
TZOFFSETTO:+0000
TZNAME:GMT
END:STANDARD
END:VTIMEZONE
BEGIN:VEVENT
DTSTART:20120531T043000Z
DTEND:20120531T060000Z
LOCATION:通元寺集会所
TRANSP:OPAQUE
SEQUENCE:1
UID:pical060-066f804fca70be16fc36e58aaf6e4d0d
DTSTAMP:20120502T031837Z
CATEGORIES:社協　洞戸支部
DESCRIPTION:＜　音楽療法　＞\n・音楽療法士：藤沢玲子氏を迎えて
SUMMARY:通元寺サロン(恵比寿会）
PRIORITY:0
CLASS:PUBLIC
END:VEVENT
END:VCALENDAR
