BEGIN:VCALENDAR
CALSCALE:GREGORIAN
X-WR-TIMEZONE;VALUE=TEXT:GMT
PRODID:PEAK Corporation - piCal -
X-WR-CALNAME;VALUE=TEXT:食改協研修会
VERSION:2.0
METHOD:PUBLISH
BEGIN:VTIMEZONE
TZID:GMT
BEGIN:STANDARD
DTSTART:19390101T000000
TZOFFSETFROM:+0000
TZOFFSETTO:+0000
TZNAME:GMT
END:STANDARD
END:VTIMEZONE
BEGIN:VEVENT
DTSTART:20120603T223000Z
DTEND:20120604T093000Z
LOCATION:
TRANSP:OPAQUE
SEQUENCE:0
UID:pical060-5f452648adbe75c67f6f9e83c4a9c3cf
DTSTAMP:20120516T121406Z
CATEGORIES:
DESCRIPTION:24年度研修会\n行き先　ミツカン酢の里　イナックスライブミュージア　　　　ム\n　　＊参加希望者は地区委員に連絡してください
SUMMARY:食改協研修会
PRIORITY:0
CLASS:PUBLIC
END:VEVENT
END:VCALENDAR
