BEGIN:VCALENDAR
CALSCALE:GREGORIAN
X-WR-TIMEZONE;VALUE=TEXT:GMT
PRODID:PEAK Corporation - piCal -
X-WR-CALNAME;VALUE=TEXT:洞戸支部社協理事会
VERSION:2.0
METHOD:PUBLISH
BEGIN:VTIMEZONE
TZID:GMT
BEGIN:STANDARD
DTSTART:19390101T000000
TZOFFSETFROM:+0000
TZOFFSETTO:+0000
TZNAME:GMT
END:STANDARD
END:VTIMEZONE
BEGIN:VEVENT
DTSTART:20120605T100000Z
DTEND:20120605T123000Z
LOCATION:洞戸老人福祉センター軽作業室
TRANSP:OPAQUE
SEQUENCE:0
UID:pical060-149f491a9be4ed2b40250085d3552816
DTSTAMP:20120529T021317Z
CATEGORIES:社協　洞戸支部
DESCRIPTION:＜議案＞\n　☆福祉委員の研修会いについて\n　☆こども見守りボラティアの研修について\n　☆ひとり暮らしの方の交流会（七夕会）について\n　☆地域福祉懇談会について\n　☆その他の２４年度事業について\n　☆各部会からの報告\n　☆その他
SUMMARY:洞戸支部社協理事会
PRIORITY:0
CLASS:PUBLIC
END:VEVENT
END:VCALENDAR
