BEGIN:VCALENDAR
CALSCALE:GREGORIAN
X-WR-TIMEZONE;VALUE=TEXT:GMT
PRODID:PEAK Corporation - piCal -
X-WR-CALNAME;VALUE=TEXT:いきいきサロン（すこやかサロン：市場）
VERSION:2.0
METHOD:PUBLISH
BEGIN:VTIMEZONE
TZID:GMT
BEGIN:STANDARD
DTSTART:19390101T000000
TZOFFSETFROM:+0000
TZOFFSETTO:+0000
TZNAME:GMT
END:STANDARD
END:VTIMEZONE
BEGIN:VEVENT
DTSTART:20120608T043000Z
DTEND:20120608T060000Z
LOCATION:市場集会所
TRANSP:OPAQUE
SEQUENCE:0
UID:pical060-fe526ded068ce4afe0194b8bb8686921
DTSTAMP:20120529T023712Z
CATEGORIES:社協　洞戸支部
DESCRIPTION:＜内容＞\n　☆音楽療法（講師：藤沢玲子氏）\n　☆お茶会
SUMMARY:いきいきサロン（すこやかサロン：市場）
PRIORITY:0
CLASS:PUBLIC
END:VEVENT
END:VCALENDAR
