BEGIN:VCALENDAR
CALSCALE:GREGORIAN
X-WR-TIMEZONE;VALUE=TEXT:GMT
PRODID:PEAK Corporation - piCal -
X-WR-CALNAME;VALUE=TEXT:PC：案内文作り（辻ゼミ）
VERSION:2.0
METHOD:PUBLISH
BEGIN:VTIMEZONE
TZID:GMT
BEGIN:STANDARD
DTSTART:19390101T000000
TZOFFSETFROM:+0000
TZOFFSETTO:+0000
TZNAME:GMT
END:STANDARD
END:VTIMEZONE
BEGIN:VEVENT
DTSTART:20120605T043000Z
DTEND:20120605T063000Z
LOCATION:洞戸生涯学習センター・ネットサロン室
TRANSP:OPAQUE
SEQUENCE:1
UID:pical060-b9630cc1d511f45c30f6b6bc8e405004
DTSTAMP:20120529T031830Z
CATEGORIES:ネットサロン
DESCRIPTION:＜内容＞\n　・案内文見本(1)を見て各自作成していただく\n　（其々分からない箇所を個別指導）\n　
SUMMARY:PC：案内文作り（辻ゼミ）
PRIORITY:0
CLASS:PUBLIC
END:VEVENT
END:VCALENDAR
