BEGIN:VCALENDAR
CALSCALE:GREGORIAN
X-WR-TIMEZONE;VALUE=TEXT:GMT
PRODID:PEAK Corporation - piCal -
X-WR-CALNAME;VALUE=TEXT:あいさつ運動
VERSION:2.0
METHOD:PUBLISH
BEGIN:VTIMEZONE
TZID:GMT
BEGIN:STANDARD
DTSTART:19390101T000000
TZOFFSETFROM:+0000
TZOFFSETTO:+0000
TZNAME:GMT
END:STANDARD
END:VTIMEZONE
BEGIN:VEVENT
DTSTART:20120705T223000Z
DTEND:20120705T230000Z
LOCATION:洞戸小学校校門前　　洞戸中学校校門前
TRANSP:OPAQUE
SEQUENCE:4
UID:pical060-2bb0d10ab6b6ecd956a87b965f59b8c7
DTSTAMP:20120701T085658Z
CATEGORIES:
DESCRIPTION:洞戸地区青少年健全育成協議会活動として、洞戸小学校．洞戸中学校校門であいさつの呼びかけを行いす。\n一般の方もご参加してくださるようお願い申しあげます。\n
SUMMARY:あいさつ運動
PRIORITY:0
CLASS:PUBLIC
END:VEVENT
END:VCALENDAR
