BEGIN:VCALENDAR
CALSCALE:GREGORIAN
X-WR-TIMEZONE;VALUE=TEXT:GMT
PRODID:PEAK Corporation - piCal -
X-WR-CALNAME;VALUE=TEXT:あいさつ運動
VERSION:2.0
METHOD:PUBLISH
BEGIN:VTIMEZONE
TZID:GMT
BEGIN:STANDARD
DTSTART:19390101T000000
TZOFFSETFROM:+0000
TZOFFSETTO:+0000
TZNAME:GMT
END:STANDARD
END:VTIMEZONE
BEGIN:VEVENT
DTSTART:20120712T223000Z
DTEND:20120712T230000Z
LOCATION:洞戸小学校校門前　　洞戸中学校校門前
TRANSP:OPAQUE
SEQUENCE:0
UID:pical060-853f3ef2735f9fe977167e6163736a6f
DTSTAMP:20120701T085733Z
CATEGORIES:
DESCRIPTION:洞戸地区青少年健全育成協議会活動として、洞戸小学校．洞戸中学校校門であいさつの呼びかけを行いす。\n一般の方もご参加してくださるようお願い申しあげます。\n
SUMMARY:あいさつ運動
PRIORITY:0
CLASS:PUBLIC
END:VEVENT
END:VCALENDAR
