BEGIN:VCALENDAR
CALSCALE:GREGORIAN
X-WR-TIMEZONE;VALUE=TEXT:GMT
PRODID:PEAK Corporation - piCal -
X-WR-CALNAME;VALUE=TEXT:夜間地域巡回活動
VERSION:2.0
METHOD:PUBLISH
BEGIN:VTIMEZONE
TZID:GMT
BEGIN:STANDARD
DTSTART:19390101T000000
TZOFFSETFROM:+0000
TZOFFSETTO:+0000
TZNAME:GMT
END:STANDARD
END:VTIMEZONE
BEGIN:VEVENT
DTSTART:20120804T123000Z
DTEND:20120804T133000Z
LOCATION:洞戸地域
TRANSP:OPAQUE
SEQUENCE:1
UID:pical060-cd2ba9b749af0c075ef1e085ef8f8393
DTSTAMP:20120704T002749Z
CATEGORIES:
DESCRIPTION:洞戸小中学校 長期休業中に伴い、夜午後９時３０分から午後１０時３０分まで夜間地域巡回活動を実施します。
SUMMARY:夜間地域巡回活動
PRIORITY:0
CLASS:PUBLIC
END:VEVENT
END:VCALENDAR
