BEGIN:VCALENDAR
CALSCALE:GREGORIAN
X-WR-TIMEZONE;VALUE=TEXT:GMT
PRODID:PEAK Corporation - piCal -
X-WR-CALNAME;VALUE=TEXT:重点補導活動
VERSION:2.0
METHOD:PUBLISH
BEGIN:VTIMEZONE
TZID:GMT
BEGIN:STANDARD
DTSTART:19390101T000000
TZOFFSETFROM:+0000
TZOFFSETTO:+0000
TZNAME:GMT
END:STANDARD
END:VTIMEZONE
BEGIN:VEVENT
DTSTART:20120815T130000Z
DTEND:20120815T133000Z
LOCATION:市場地区・通元寺地区
TRANSP:OPAQUE
SEQUENCE:0
UID:pical060-9233171417117a3dde751912dd64e06a
DTSTAMP:20120704T030822Z
CATEGORIES:青少年育成協議会
DESCRIPTION:通元寺提灯祭り終了後、通元寺地区・市場地区を午後１０時から１０時３０分頃まで見回る。
SUMMARY:重点補導活動
PRIORITY:0
CLASS:PUBLIC
END:VEVENT
END:VCALENDAR
