BEGIN:VCALENDAR
CALSCALE:GREGORIAN
X-WR-TIMEZONE;VALUE=TEXT:GMT
PRODID:PEAK Corporation - piCal -
X-WR-CALNAME;VALUE=TEXT:PC：作品の整理（辻ゼミ）
VERSION:2.0
METHOD:PUBLISH
BEGIN:VTIMEZONE
TZID:GMT
BEGIN:STANDARD
DTSTART:19390101T000000
TZOFFSETFROM:+0000
TZOFFSETTO:+0000
TZNAME:GMT
END:STANDARD
END:VTIMEZONE
BEGIN:VEVENT
DTSTART:20120724T043000Z
DTEND:20120724T063000Z
LOCATION:生涯学習センター　ネットサロン室
TRANSP:OPAQUE
SEQUENCE:1
UID:pical060-26976796552cf53fa6a50605d395630e
DTSTAMP:20120704T152517Z
CATEGORIES:ネットサロン
DESCRIPTION:＜内容＞\n・作品の整理\n・バックアップ\n・その他
SUMMARY:PC：作品の整理（辻ゼミ）
PRIORITY:0
CLASS:PUBLIC
END:VEVENT
END:VCALENDAR
