BEGIN:VCALENDAR
CALSCALE:GREGORIAN
X-WR-TIMEZONE;VALUE=TEXT:GMT
PRODID:PEAK Corporation - piCal -
X-WR-CALNAME;VALUE=TEXT:高見・小瀬見・高賀サロン（三友クラブ）
VERSION:2.0
METHOD:PUBLISH
BEGIN:VTIMEZONE
TZID:GMT
BEGIN:STANDARD
DTSTART:19390101T000000
TZOFFSETFROM:+0000
TZOFFSETTO:+0000
TZNAME:GMT
END:STANDARD
END:VTIMEZONE
BEGIN:VEVENT
DTSTART:20120717T043000Z
DTEND:20120717T060000Z
LOCATION:高見集会所
TRANSP:OPAQUE
SEQUENCE:1
UID:pical060-050862250609eafd406783d46a0a42b0
DTSTAMP:20120706T121645Z
CATEGORIES:社協　洞戸支部
DESCRIPTION:＜内容＞\n・いきいき教室（講師：洞戸保健センター・保健師）\n　　・血圧測定\n　　・健康体操\n　　・ストレッチ体操\n　　・頭の体操・他
SUMMARY:高見・小瀬見・高賀サロン（三友クラブ）
PRIORITY:0
CLASS:PUBLIC
END:VEVENT
END:VCALENDAR
