BEGIN:VCALENDAR
CALSCALE:GREGORIAN
X-WR-TIMEZONE;VALUE=TEXT:GMT
PRODID:PEAK Corporation - piCal -
X-WR-CALNAME;VALUE=TEXT:洞小１学期終業式
VERSION:2.0
METHOD:PUBLISH
BEGIN:VTIMEZONE
TZID:GMT
BEGIN:STANDARD
DTSTART:19390101T000000
TZOFFSETFROM:+0000
TZOFFSETTO:+0000
TZNAME:GMT
END:STANDARD
END:VTIMEZONE
BEGIN:VEVENT
DTSTART:20120719T234000Z
DTEND:20120720T002000Z
LOCATION:
TRANSP:OPAQUE
SEQUENCE:0
UID:pical060-3f3301757477d2943592ad67f842ebd4
DTSTAMP:20120709T083516Z
CATEGORIES:学校関連（小中）
DESCRIPTION:
SUMMARY:洞小１学期終業式
PRIORITY:0
CLASS:PUBLIC
END:VEVENT
END:VCALENDAR
