BEGIN:VCALENDAR
CALSCALE:GREGORIAN
X-WR-TIMEZONE;VALUE=TEXT:GMT
PRODID:PEAK Corporation - piCal -
X-WR-CALNAME;VALUE=TEXT:洞小子ども木工教室
VERSION:2.0
METHOD:PUBLISH
BEGIN:VTIMEZONE
TZID:GMT
BEGIN:STANDARD
DTSTART:19390101T000000
TZOFFSETFROM:+0000
TZOFFSETTO:+0000
TZNAME:GMT
END:STANDARD
END:VTIMEZONE
BEGIN:VEVENT
DTSTART:20120807T010000Z
DTEND:20120807T023000Z
LOCATION:
TRANSP:OPAQUE
SEQUENCE:1
UID:pical060-a6cc1806355250904c734611863ad15b
DTSTAMP:20120709T083806Z
CATEGORIES:学校関連（小中）
DESCRIPTION:
SUMMARY:洞小子ども木工教室
PRIORITY:0
CLASS:PUBLIC
END:VEVENT
END:VCALENDAR
