BEGIN:VCALENDAR
CALSCALE:GREGORIAN
X-WR-TIMEZONE;VALUE=TEXT:GMT
PRODID:PEAK Corporation - piCal -
X-WR-CALNAME;VALUE=TEXT:洞小ＰＴＡサイエンスショー
VERSION:2.0
METHOD:PUBLISH
BEGIN:VTIMEZONE
TZID:GMT
BEGIN:STANDARD
DTSTART:19390101T000000
TZOFFSETFROM:+0000
TZOFFSETTO:+0000
TZNAME:GMT
END:STANDARD
END:VTIMEZONE
BEGIN:VEVENT
DTSTART:20120808T003000Z
DTEND:20120808T023000Z
LOCATION:
TRANSP:OPAQUE
SEQUENCE:0
UID:pical060-358ded020af0740fc744f3c620789a36
DTSTAMP:20120709T083922Z
CATEGORIES:学校関連（小中）
DESCRIPTION:
SUMMARY:洞小ＰＴＡサイエンスショー
PRIORITY:0
CLASS:PUBLIC
END:VEVENT
END:VCALENDAR
