BEGIN:VCALENDAR
CALSCALE:GREGORIAN
X-WR-TIMEZONE;VALUE=TEXT:GMT
PRODID:PEAK Corporation - piCal -
X-WR-CALNAME;VALUE=TEXT:社協洞戸支部：南濃地区より視察研修
VERSION:2.0
METHOD:PUBLISH
BEGIN:VTIMEZONE
TZID:GMT
BEGIN:STANDARD
DTSTART:19390101T000000
TZOFFSETFROM:+0000
TZOFFSETTO:+0000
TZNAME:GMT
END:STANDARD
END:VTIMEZONE
BEGIN:VEVENT
DTSTART:20120726T040000Z
DTEND:20120726T053000Z
LOCATION:洞戸老人福祉センター・研修室
TRANSP:OPAQUE
SEQUENCE:0
UID:pical060-937da389063b419a4ccf3fb48aa2184c
DTSTAMP:20120719T141056Z
CATEGORIES:社協　洞戸支部
DESCRIPTION:南濃地区民生児童委員及び事務局の視察研修\n《内容》\n　?洞戸支部社協の活動（事業内容）について\n　?他機関との連携について\n　?質疑応答
SUMMARY:社協洞戸支部：南濃地区より視察研修
PRIORITY:0
CLASS:PUBLIC
END:VEVENT
END:VCALENDAR
