BEGIN:VCALENDAR
CALSCALE:GREGORIAN
X-WR-TIMEZONE;VALUE=TEXT:GMT
PRODID:PEAK Corporation - piCal -
X-WR-CALNAME;VALUE=TEXT:合同研修会（社協洞戸支部）
VERSION:2.0
METHOD:PUBLISH
BEGIN:VTIMEZONE
TZID:GMT
BEGIN:STANDARD
DTSTART:19390101T000000
TZOFFSETFROM:+0000
TZOFFSETTO:+0000
TZNAME:GMT
END:STANDARD
END:VTIMEZONE
BEGIN:VEVENT
DTSTART:20130224T010000Z
DTEND:20130224T040000Z
LOCATION:洞戸基幹集落センター　２F集会室
TRANSP:OPAQUE
SEQUENCE:0
UID:pical060-9cb36166cd47cecde452e9b2cb8d4be2
DTSTAMP:20130126T033123Z
CATEGORIES:社協　洞戸支部
DESCRIPTION:《合同研修会》…福祉委員・民生委員・社協理事\n＝内容＝（予定）\n・高齢者福祉について（介護保険等）\n　　　　　講師…西地域包括支援センター職員\n・地区別交流会\n・洞戸地域福祉活動計画配布作業\n・その他
SUMMARY:合同研修会（社協洞戸支部）
PRIORITY:0
CLASS:PUBLIC
END:VEVENT
END:VCALENDAR
