BEGIN:VCALENDAR
CALSCALE:GREGORIAN
X-WR-TIMEZONE;VALUE=TEXT:GMT
PRODID:PEAK Corporation - piCal -
X-WR-CALNAME;VALUE=TEXT:洞戸小６年修学旅行２日目
VERSION:2.0
METHOD:PUBLISH
BEGIN:VTIMEZONE
TZID:GMT
BEGIN:STANDARD
DTSTART:19390101T000000
TZOFFSETFROM:+0000
TZOFFSETTO:+0000
TZNAME:GMT
END:STANDARD
END:VTIMEZONE
BEGIN:VEVENT
DTSTART:20130524T000000Z
DTEND:20130524T080000Z
LOCATION:
TRANSP:OPAQUE
SEQUENCE:0
UID:pical060-f18c939b0e165c44db54e30d4b176679
DTSTAMP:20130426T040755Z
CATEGORIES:学校関連（小中）
DESCRIPTION:
SUMMARY:洞戸小６年修学旅行２日目
PRIORITY:0
CLASS:PUBLIC
END:VEVENT
END:VCALENDAR
