BEGIN:VCALENDAR
CALSCALE:GREGORIAN
X-WR-TIMEZONE;VALUE=TEXT:GMT
PRODID:PEAK Corporation - piCal -
X-WR-CALNAME;VALUE=TEXT:洞戸小　山の子田植え
VERSION:2.0
METHOD:PUBLISH
BEGIN:VTIMEZONE
TZID:GMT
BEGIN:STANDARD
DTSTART:19390101T000000
TZOFFSETFROM:+0000
TZOFFSETTO:+0000
TZNAME:GMT
END:STANDARD
END:VTIMEZONE
BEGIN:VEVENT
DTSTART:20130526T235000Z
DTEND:20130527T023000Z
LOCATION:
TRANSP:OPAQUE
SEQUENCE:0
UID:pical060-13c9956da703df53547670dea0b2ca11
DTSTAMP:20130426T041035Z
CATEGORIES:学校関連（小中）
DESCRIPTION:
SUMMARY:洞戸小　山の子田植え
PRIORITY:0
CLASS:PUBLIC
END:VEVENT
END:VCALENDAR
