BEGIN:VCALENDAR
CALSCALE:GREGORIAN
X-WR-TIMEZONE;VALUE=TEXT:GMT
PRODID:PEAK Corporation - piCal -
X-WR-CALNAME;VALUE=TEXT:配食サービス（社協洞戸支部）
VERSION:2.0
METHOD:PUBLISH
BEGIN:VTIMEZONE
TZID:GMT
BEGIN:STANDARD
DTSTART:19390101T000000
TZOFFSETFROM:+0000
TZOFFSETTO:+0000
TZNAME:GMT
END:STANDARD
END:VTIMEZONE
BEGIN:VEVENT
DTSTART:20130523T021500Z
DTEND:20130523T031500Z
LOCATION:洞戸老人福祉センター
TRANSP:OPAQUE
SEQUENCE:0
UID:pical060-e85118be110a79cc24d7a4732e674b54
DTSTAMP:20130503T114406Z
CATEGORIES:社協　洞戸支部
DESCRIPTION:《ひとり暮らしの方への弁当配布》・・・７５歳以上\n・対象者：ひとり暮らしで弁当を希望をされた方\n・弁当作り：食生活改善協議会の方\n・配食をしてくださる方：福祉委員・民生委員の方
SUMMARY:配食サービス（社協洞戸支部）
PRIORITY:0
CLASS:PUBLIC
END:VEVENT
END:VCALENDAR
