BEGIN:VCALENDAR
CALSCALE:GREGORIAN
X-WR-TIMEZONE;VALUE=TEXT:GMT
PRODID:PEAK Corporation - piCal -
X-WR-CALNAME;VALUE=TEXT:洞戸小フリー参観日　共生学校づくり実行委員会　学校評議員会
VERSION:2.0
METHOD:PUBLISH
BEGIN:VTIMEZONE
TZID:GMT
BEGIN:STANDARD
DTSTART:19390101T000000
TZOFFSETFROM:+0000
TZOFFSETTO:+0000
TZNAME:GMT
END:STANDARD
END:VTIMEZONE
BEGIN:VEVENT
DTSTART:20130605T014500Z
DTEND:20130605T063000Z
LOCATION:
TRANSP:OPAQUE
SEQUENCE:1
UID:pical060-77578b1459d79287eeaf635bda17a2f1
DTSTAMP:20130522T045136Z
CATEGORIES:学校関連（小中）
DESCRIPTION:フリー参観　　　１０：４５〜１４：４０\n共生学校づくり　１３：３０〜１５：００\n学校評議員会　　１５：００〜１５：３０
SUMMARY:洞戸小フリー参観日　共生学校づくり実行委員会　学校評議員会
PRIORITY:0
CLASS:PUBLIC
END:VEVENT
END:VCALENDAR
